BEGIN:VCALENDAR
VERSION:2.0
PRODID:-//Rolleston Christian School - ECPv6.8.3//NONSGML v1.0//EN
CALSCALE:GREGORIAN
METHOD:PUBLISH
X-WR-CALNAME:Rolleston Christian School
X-ORIGINAL-URL:https://www.rollestonchristian.school.nz
X-WR-CALDESC:Events for Rolleston Christian School
REFRESH-INTERVAL;VALUE=DURATION:PT1H
X-Robots-Tag:noindex
X-PUBLISHED-TTL:PT1H
BEGIN:VTIMEZONE
TZID:Pacific/Auckland
BEGIN:STANDARD
TZOFFSETFROM:+1300
TZOFFSETTO:+1200
TZNAME:NZST
DTSTART:20220402T140000
END:STANDARD
BEGIN:DAYLIGHT
TZOFFSETFROM:+1200
TZOFFSETTO:+1300
TZNAME:NZDT
DTSTART:20220924T140000
END:DAYLIGHT
END:VTIMEZONE
BEGIN:VEVENT
DTSTART;VALUE=DATE:20220404
DTEND;VALUE=DATE:20220405
DTSTAMP:20260420T200830
CREATED:20210927T005623Z
LAST-MODIFIED:20211103T234216Z
UID:2131-1649030400-1649116799@www.rollestonchristian.school.nz
SUMMARY:Teachers Only Day - No School
DESCRIPTION:
URL:https://www.rollestonchristian.school.nz/event/teachers-only-day-2/
END:VEVENT
BEGIN:VEVENT
DTSTART;VALUE=DATE:20220414
DTEND;VALUE=DATE:20220415
DTSTAMP:20260420T200830
CREATED:20210927T005754Z
LAST-MODIFIED:20210927T005754Z
UID:2133-1649894400-1649980799@www.rollestonchristian.school.nz
SUMMARY:Term 1 Ends
DESCRIPTION:
URL:https://www.rollestonchristian.school.nz/event/term-1-ends/
END:VEVENT
END:VCALENDAR